BEGIN:VCALENDAR
VERSION:2.0
PRODID:-//Loomis Basin Charter School PTC - ECPv6.3.7//NONSGML v1.0//EN
CALSCALE:GREGORIAN
METHOD:PUBLISH
X-WR-CALNAME:Loomis Basin Charter School PTC
X-ORIGINAL-URL:https://www.lbcsptc.org
X-WR-CALDESC:Events for Loomis Basin Charter School PTC
REFRESH-INTERVAL;VALUE=DURATION:PT1H
X-Robots-Tag:noindex
X-PUBLISHED-TTL:PT1H
BEGIN:VTIMEZONE
TZID:America/Los_Angeles
BEGIN:DAYLIGHT
TZOFFSETFROM:-0800
TZOFFSETTO:-0700
TZNAME:PDT
DTSTART:20140309T100000
END:DAYLIGHT
BEGIN:STANDARD
TZOFFSETFROM:-0700
TZOFFSETTO:-0800
TZNAME:PST
DTSTART:20141102T090000
END:STANDARD
END:VTIMEZONE
BEGIN:VEVENT
DTSTART;TZID=America/Los_Angeles:20141010T150000
DTEND;TZID=America/Los_Angeles:20141010T183000
DTSTAMP:20260423T043844
CREATED:20140915T123350Z
LAST-MODIFIED:20140921T115949Z
UID:159-1412953200-1412965800@www.lbcsptc.org
SUMMARY:LBCS Carnival
DESCRIPTION:LBCS is hosting the 5th Annual Family Carnival on October 10\, 2014.  The goal is to make this a FUN\, affordable LBCS Community event\, welcoming everyone to our 2014/15 School Year. \nFunds earned from this year’s carnival will go towards benches outside each classroom. Last year’s funds purchased a new PA system. \nClick here for more info.
URL:https://www.lbcsptc.org/events-calendar/lbcs-carnival/
LOCATION:LBCS\, 5438 Laird Rd.\, Loomis\, CA\, 95650\, United States
END:VEVENT
BEGIN:VEVENT
DTSTART;TZID=America/Los_Angeles:20140909T190000
DTEND;TZID=America/Los_Angeles:20140909T200000
DTSTAMP:20260423T043844
CREATED:20140915T083543Z
LAST-MODIFIED:20140915T084356Z
UID:139-1410289200-1410292800@www.lbcsptc.org
SUMMARY:PTC Meeting
DESCRIPTION:
URL:https://www.lbcsptc.org/events-calendar/ptc-meeting-boneshakers/
LOCATION:Black Vinyl\, 4810 Granite Dr.\, Rocklin\, CA\, 95677\, United States
END:VEVENT
BEGIN:VEVENT
DTSTART;TZID=America/Los_Angeles:20140820T081500
DTEND;TZID=America/Los_Angeles:20140820T091500
DTSTAMP:20260423T043844
CREATED:20140915T085021Z
LAST-MODIFIED:20140915T085021Z
UID:145-1408522500-1408526100@www.lbcsptc.org
SUMMARY:Back-to-School Social
DESCRIPTION:
URL:https://www.lbcsptc.org/events-calendar/back-to-school-social/
LOCATION:Flower Farm Cafe\, 9280 Horseshoe Bar Rd\, Loomis\, CA\, 95659\, United States
END:VEVENT
END:VCALENDAR