BEGIN:VCALENDAR
VERSION:2.0
PRODID:-//Loomis Basin Charter School PTC - ECPv6.3.7//NONSGML v1.0//EN
CALSCALE:GREGORIAN
METHOD:PUBLISH
X-ORIGINAL-URL:https://www.lbcsptc.org
X-WR-CALDESC:Events for Loomis Basin Charter School PTC
REFRESH-INTERVAL;VALUE=DURATION:PT1H
X-Robots-Tag:noindex
X-PUBLISHED-TTL:PT1H
BEGIN:VTIMEZONE
TZID:America/Los_Angeles
BEGIN:DAYLIGHT
TZOFFSETFROM:-0800
TZOFFSETTO:-0700
TZNAME:PDT
DTSTART:20250309T100000
END:DAYLIGHT
BEGIN:STANDARD
TZOFFSETFROM:-0700
TZOFFSETTO:-0800
TZNAME:PST
DTSTART:20251102T090000
END:STANDARD
END:VTIMEZONE
BEGIN:VEVENT
DTSTART;TZID=America/Los_Angeles:20250514T080000
DTEND;TZID=America/Los_Angeles:20250514T100000
DTSTAMP:20260421T024149
CREATED:20240820T210120Z
LAST-MODIFIED:20240820T210120Z
UID:3744-1747209600-1747216800@www.lbcsptc.org
SUMMARY:PTC Meeting
DESCRIPTION:8:15am in the Art Room
URL:https://www.lbcsptc.org/events-calendar/ptc-meeting-54/
END:VEVENT
END:VCALENDAR